BEGIN:VCALENDAR
VERSION:2.0
PRODID:-//pretix//pretix.eu//
BEGIN:VTIMEZONE
TZID:Europe/Berlin
BEGIN:STANDARD
DTSTART:20001029T040000
RRULE:FREQ=YEARLY;BYDAY=-1SU;BYMONTH=10
TZNAME:CET
TZOFFSETFROM:+0200
TZOFFSETTO:+0100
END:STANDARD
BEGIN:DAYLIGHT
DTSTART:20000326T030000
RRULE:FREQ=YEARLY;BYDAY=-1SU;BYMONTH=3
TZNAME:CEST
TZOFFSETFROM:+0100
TZOFFSETTO:+0200
END:DAYLIGHT
END:VTIMEZONE
BEGIN:VEVENT
UID:pretix-dikule22-T-0@tickets.dikule-symposium.de
DTSTART;TZID=Europe/Berlin:20221006T123000
DTEND;TZID=Europe/Berlin:20221007T140000
DESCRIPTION:Tickets: https://tickets.dikule-symposium.de/T/\nVeranstalter: 
 Otto-Friedrich-Universität Bamberg (Projekt DiKuLe)
DTSTAMP:20260419T150021Z
LOCATION:Markusstr. 8a\, 96047 Bamberg
SUMMARY:Symposium „Digitale Kulturen der Lehre entwickeln“
END:VEVENT
END:VCALENDAR
